BEGIN:VCALENDAR
VERSION:2.0
PRODID:-//תטא הילינג - אבראכדברא - ECPv6.15.16//NONSGML v1.0//EN
CALSCALE:GREGORIAN
METHOD:PUBLISH
X-WR-CALNAME:תטא הילינג - אבראכדברא
X-ORIGINAL-URL:https://abracadabra.co.il
X-WR-CALDESC:Events for תטא הילינג - אבראכדברא
REFRESH-INTERVAL;VALUE=DURATION:PT1H
X-Robots-Tag:noindex
X-PUBLISHED-TTL:PT1H
BEGIN:VTIMEZONE
TZID:Europe/Moscow
BEGIN:STANDARD
TZOFFSETFROM:+0300
TZOFFSETTO:+0300
TZNAME:MSK
DTSTART:20180101T000000
END:STANDARD
END:VTIMEZONE
BEGIN:VEVENT
DTSTART;VALUE=DATE:20210620
DTEND;VALUE=DATE:20210709
DTSTAMP:20260426T055855
CREATED:20210522T185627Z
LAST-MODIFIED:20210522T185627Z
UID:689-1624147200-1625788799@abracadabra.co.il
SUMMARY:אנטומיה אינטואיטיבית בפרדס חנה
DESCRIPTION:אנטומיה אינטואיטיבית קורס הדגל של התטא הילינג (לבוגרי קורסי יסוד\, מתקדמים ולחפור לעומק) הזמנה רשמית להצטרף לחגיגה בפרדס!\n\n\nשלושה שבועות בהם נצלול לתוך הגוף הפיזי נפגוש ונכיר את המערכות השונות\, שלום שלום נעים מאד \n\n\nכמו כן נלמד ונחווה את החיבורים האינטואיטיביים בין האברים השונים למה שהם מייצגים\, התדרים השונים שהם מניעים והתודעות השונות שהם "מחזיקים"  \n\n\n\nמעבר ל21 יום רצופים ביחד במרחב שתומך בתהליך שלם להטמעת ידע חדש\, יש את המתנות שבאות עם החלק החוויתי בקורס והן מה שמקפיץ אותנו באופן קוואנטי משמעותי בכמה רבדים.\n\n\nכיצד יהדהד הכלי האישי הפרטי שלי כתוצאה מהניקיון הממוקד \n\n\nהיכולות שלי כמטפלת באחרים אחרי שסרקתי והכרתי וחוויתי וניקיתי אני זוכרת ויודעת \n\n\nוכמובן את החיבור הישיר שלי לבריאה\, לנקודות המבט ולהגדרותיה הגבוהות כיצד לחיות את חיי היומיום במצב מאוזן \n\n\nהפרטים הטכניים\, מיקום מדוייק ועלויות ימסרו בשיחה פרטית. \n\n\n\n כדאי להתקשר עכשיו כי יש מלגת מימון לנרשמותים מוקדם מבעוד מועד\, המעניקה הנחה משמעותית מהעלות הכוללת של הקורס.\n\n\nבוגרות ובוגרים שלי מקורסי אנטומיה קודמים מוזמנים להתפקד\, לבוא להצטרף אלינו חיני חינם לחגיגה \n\n\n אפשר גם לשתף כי זה מגביר חשיפה\, גם מגיע לאנשים שאני עדין לא מכירה ומרחיב ת'לב בטובש'כם… \n\n\n\nתודה.
URL:https://abracadabra.co.il/event/%d7%90%d7%a0%d7%98%d7%95%d7%9e%d7%99%d7%94-%d7%90%d7%99%d7%a0%d7%98%d7%95%d7%90%d7%99%d7%98%d7%99%d7%91%d7%99%d7%aa-%d7%91%d7%a4%d7%a8%d7%93%d7%a1-%d7%97%d7%a0%d7%94/
LOCATION:פרדס חנה\, פרדס חנה\, Israel
ATTACH;FMTTYPE=image/jpeg:https://abracadabra.co.il/wp-content/uploads/2021/05/anatomy.jpg
ORGANIZER;CN="%D7%90%D7%99%D7%9C%D7%A0%D7%99%D7%AA %D7%99%D7%A4%D7%94-%D7%93%D7%9E%D7%99%D7%A8%D7%9C":MAILTO:ilanit@abracadabra.co.il
END:VEVENT
BEGIN:VEVENT
DTSTART;TZID=Europe/Moscow:20200913T193000
DTEND;TZID=Europe/Moscow:20200913T200000
DTSTAMP:20260426T055855
CREATED:20200911T142651Z
LAST-MODIFIED:20200911T143223Z
UID:669-1600025400-1600027200@abracadabra.co.il
SUMMARY:מבט על השלם - מבפנים החוצה
DESCRIPTION:במסגרת מרתון לייבים חדש לכבוד חגי תשרי תשפ"א (הבאים עלינו לטובה חמסה חמסה שום בצל) נשאלתי אם יש נושא שבא לי לעשות עליו לייב שקשור להתחלות או לחגים ויכול לתרום בסקייל רחב.\n\n\n\nישבתי\nחשבתי\nהתחברתי\nהרגשתי\nהחלטתי\n\n\nכן יש לי \n\n\n\nאז נכון סוכות?\n\n\nאחד ממנהגי החג אושפיזין. הסוכה ושולחן החג פתוחים בפני כול ללא הבדלי מעמד\, מגדר\, אמונה\, צבע\, מין. כולם אורחים שווים סביב שולחן החג\, לכולם יש מקום.\n\n\nאז כזה!\n\n\n\nבא לי שנהפוך מנהג להרגל ונסכים לארח סביב "שולחן החג" הפרטי\, הפנימי\, היומיומי\, האישי שלנו בכול רגע ובכול זמן נתון את כול מגוון הרגשות הקיימים. כולם אורחים שווים סביב שולחן החג\, לכולם יש מקום.\n\n\nאסביר ואפרט מה הרעיון שמאפשר לנו תנועה רב מימדית במרחב\, וביטוי שלם למי שאני. התבוננות על השלם מבפנים החוצה.\n\n\nנבין כמה מרפאה התנועה הזו וכיצד לאפשר לציר הפנימי שלי להניע אותי למקומות של מימוש\, ריפוי\, ובריאת מציאות העולה על כול דימיון!\n\n\nשנה חדשה אמרנו? אז מתאים נכון?!\n\n\nנתראה ביום ראשון 13/9 בשעה 19:30 (תהיה גם הקלטה כמובן)\n\n\n\nקהילת תטא הילינג בנתינה – לקהל הרחב\n\n\n\n\nהצטרפו יהיה מרפא\, שתפו והזמינו חברים  שבת שלום \nאילנית
URL:https://abracadabra.co.il/event/%d7%9e%d7%91%d7%98-%d7%a2%d7%9c-%d7%94%d7%a9%d7%9c%d7%9d-%d7%9e%d7%91%d7%a4%d7%a0%d7%99%d7%9d-%d7%94%d7%97%d7%95%d7%a6%d7%94/
LOCATION:קהילת תטא הילינג בנתינה – לקהל הרחב (בפייסבוק)
CATEGORIES:שידור חי
ATTACH;FMTTYPE=image/jpeg:https://abracadabra.co.il/wp-content/uploads/2020/09/livePink.jpg
ORGANIZER;CN="%D7%90%D7%99%D7%9C%D7%A0%D7%99%D7%AA %D7%99%D7%A4%D7%94-%D7%93%D7%9E%D7%99%D7%A8%D7%9C":MAILTO:ilanit@abracadabra.co.il
END:VEVENT
BEGIN:VEVENT
DTSTART;TZID=Europe/Moscow:20200609T193000
DTEND;TZID=Europe/Moscow:20200609T203000
DTSTAMP:20260426T055855
CREATED:20200606T175900Z
LAST-MODIFIED:20200606T175900Z
UID:646-1591731000-1591734600@abracadabra.co.il
SUMMARY:Live בפייסבוק - קהילת תטא הילינג
DESCRIPTION:ריפוי בין המינים שבתוכי\nנקבי זכרי – מול משולש הקורבן\nהרצאה בלייב של אילנית יפה-דמירל במסגרת המיזם של קהילת התטא הילינג – 33 ימים\, 1001 הטמעות לתמיכה ולאיזון בתקופה הנוכחית\nניתן לצפות בלייב בקבוצה בפייסבוק
URL:https://abracadabra.co.il/event/live-%d7%91%d7%a4%d7%99%d7%99%d7%a1%d7%91%d7%95%d7%a7-%d7%a7%d7%94%d7%99%d7%9c%d7%aa-%d7%aa%d7%98%d7%90-%d7%94%d7%99%d7%9c%d7%99%d7%a0%d7%92/
LOCATION:קהילת תטא הילינג בנתינה – לקהל הרחב (בפייסבוק)
ATTACH;FMTTYPE=image/jpeg:https://abracadabra.co.il/wp-content/uploads/2020/06/ilanitFinal.jpg
ORGANIZER;CN="%D7%90%D7%99%D7%9C%D7%A0%D7%99%D7%AA %D7%99%D7%A4%D7%94-%D7%93%D7%9E%D7%99%D7%A8%D7%9C":MAILTO:ilanit@abracadabra.co.il
END:VEVENT
BEGIN:VEVENT
DTSTART;VALUE=DATE:20190815
DTEND;VALUE=DATE:20190816
DTSTAMP:20260426T055855
CREATED:20190730T071511Z
LAST-MODIFIED:20190730T071511Z
UID:259-1565827200-1565913599@abracadabra.co.il
SUMMARY:אתר אבראכדברא החדש עלה לאויר!
DESCRIPTION:ברוכים הבאים!
URL:https://abracadabra.co.il/event/%d7%90%d7%aa%d7%a8-%d7%90%d7%91%d7%a8%d7%90%d7%9b%d7%93%d7%91%d7%a8%d7%90-%d7%94%d7%97%d7%93%d7%a9-%d7%a2%d7%9c%d7%94-%d7%9c%d7%90%d7%95%d7%99%d7%a8/
LOCATION:אבראכדברא – מושב בן שמן\, דרך הזית 12\, מושב בן שמן\, 7311500\, Israel
ORGANIZER;CN="%D7%90%D7%99%D7%9C%D7%A0%D7%99%D7%AA %D7%99%D7%A4%D7%94-%D7%93%D7%9E%D7%99%D7%A8%D7%9C":MAILTO:ilanit@abracadabra.co.il
END:VEVENT
BEGIN:VEVENT
DTSTART;TZID=Europe/Moscow:20190802T080000
DTEND;TZID=Europe/Moscow:20190804T170000
DTSTAMP:20260426T055855
CREATED:20190730T081620Z
LAST-MODIFIED:20190730T081620Z
UID:281-1564732800-1564938000@abracadabra.co.il
SUMMARY:קורס תטא הילינג בסיס
DESCRIPTION:
URL:https://abracadabra.co.il/event/%d7%a7%d7%95%d7%a8%d7%a1-%d7%aa%d7%98%d7%90-%d7%94%d7%99%d7%9c%d7%99%d7%a0%d7%92-%d7%91%d7%a1%d7%99%d7%a1/
LOCATION:אבראכדברא – מושב בן שמן\, דרך הזית 12\, מושב בן שמן\, 7311500\, Israel
CATEGORIES:סדנה
ATTACH;FMTTYPE=image/jpeg:https://abracadabra.co.il/wp-content/uploads/2019/07/A-the-road-815297_640.jpg
ORGANIZER;CN="%D7%90%D7%99%D7%9C%D7%A0%D7%99%D7%AA %D7%99%D7%A4%D7%94-%D7%93%D7%9E%D7%99%D7%A8%D7%9C":MAILTO:ilanit@abracadabra.co.il
END:VEVENT
END:VCALENDAR