BEGIN:VCALENDAR
VERSION:2.0
PRODID:-//תטא הילינג - אבראכדברא - ECPv6.15.16//NONSGML v1.0//EN
CALSCALE:GREGORIAN
METHOD:PUBLISH
X-ORIGINAL-URL:https://abracadabra.co.il
X-WR-CALDESC:Events for תטא הילינג - אבראכדברא
REFRESH-INTERVAL;VALUE=DURATION:PT1H
X-Robots-Tag:noindex
X-PUBLISHED-TTL:PT1H
BEGIN:VTIMEZONE
TZID:Europe/Moscow
BEGIN:STANDARD
TZOFFSETFROM:+0300
TZOFFSETTO:+0300
TZNAME:MSK
DTSTART:20230101T000000
END:STANDARD
END:VTIMEZONE
BEGIN:VEVENT
DTSTART;TZID=Europe/Moscow:20241206T083000
DTEND;TZID=Europe/Moscow:20241208T160000
DTSTAMP:20260425T195323
CREATED:20241117T085757Z
LAST-MODIFIED:20241124T184544Z
UID:718-1733473800-1733673600@abracadabra.co.il
SUMMARY:קורס תטא הילינג יסוד בוא/י לגלות את היכולת לשנות את חייך\, להתחבר אינטואיטיבית לאנרגיית הבריאה כולה\, וליצור מציאות חדשה ומבוקשת
DESCRIPTION:6-8/12/2024 שישי שבת וראשון במושב בן שמן\, מנחה: אילנית יפה דמירל\, מאסטר לתטא הילינג\nהאם את/ה מרגיש/ה תקוע/ה באותו מקום?\nהיית רוצה לשחרר חסמים רגשיים ואמונות שמגבילות אותך?\nבקורס תטא הילינג יסוד\, נלמד כלים עוצמתיים שישנו את הדרך בה את/ה מתחבר/ת לעצמך\, לאנרגיית הבריאה ולמציאות סביבך. \nמה תלמדו בקורס?\n– איך לזהות ולהחליף אמונות מגבילות. \n– מהן היכולות האינטואיטיביות שלך.\n– חיבור לאנרגיית ריפוי ויצירת שינויים תודעתים\, פיזיולוגים\, רגשים ואנרגטים בעלי ערך.\n– טכניקות לתקשור מדויק עם התת-מודע והעל-מודע. \n– ריפוי אישי\, וריפוי לאחרים. \nפרטים חשובים:\n📅 תאריכים: 6–8 בדצמבר 2024\n⏰ שעות: 8:30–16:00\n📍 מיקום: מושב בן שמן (כולל אפשרות לינה ללא תוספת תשלום)\n👩‍🏫 מנחה: אילנית יפה דמירל\, מאסטר לתטא הילינג \nעלות הקורס:\n– עלות מלאה 2\,150 ₪\n– בהרשמה מוקדמת: 1\,970 ₪ (עד תאריך 30/11/24)\n– דמי רישום בסך 400 ₪ יועברו מבעוד מועד ויקוזזו מהעלות הכוללת\n– ניתן לפרוס את ההפרש עד 5 תשלומים \nלמי מתאים הקורס?\nלכל מי שמחפש/ת כלים לשיפור עצמי\, חיבור לאינטואיציה ולאנרגיה היוצרת כול\, העצמת החיים בכל תחום: בריאות\, מערכות יחסים\, שפע ועוד. \nמה עוד מחכה לך?\n✨ סביבה תומכת ואנרגיה חיובית במושב קסום ומחבק.\n✨ אפשרות לינה ללא תוספת מחיר.\n✨ קורס חוויתי פרונטלי בעל תוכן עיוני ותרגולים מעשיים. \n✨️ ארוחת בוקר מפנקת\, שתיה ופירות לאורך כול היום. \n✨️ ספר שנכתב על ידי ויאנה סטיבל מייסדת השיטה מתורגם לעברית\, חוברת עבודה פרקטית לתרגולים. \n✨️ תעודת הסמכה רשמית מטעם בית הספר העולמי לתטא הילינג של ויאנה סטיבל. \nאל תפספסו את ההזדמנות להתחיל מחדש!\n📌 להרשמה ולפרטים נוספים צרו קשר\, במייל או בווצאפ
URL:https://abracadabra.co.il/event/2024-theta-healing/
LOCATION:אבראכדברא – מושב בן שמן\, דרך הזית 12\, מושב בן שמן\, 7311500\, Israel
CATEGORIES:סדנה
ATTACH;FMTTYPE=image/jpeg:https://abracadabra.co.il/wp-content/uploads/2024/11/Theta_healing.jpg
ORGANIZER;CN="%D7%90%D7%99%D7%9C%D7%A0%D7%99%D7%AA %D7%99%D7%A4%D7%94-%D7%93%D7%9E%D7%99%D7%A8%D7%9C":MAILTO:ilanit@abracadabra.co.il
END:VEVENT
END:VCALENDAR